BEGIN:VCALENDAR
VERSION:2.0
PRODID:-//eventon.com NONSGML v1.0//EN
CALSCALE:GREGORIAN
METHOD:PUBLISH
BEGIN:VEVENT
UID:69e3432a245ec
DTSTAMP:20260418T083906Z
DTSTART:20240614T190000Z
DTEND:20240614T220000Z
LOCATION:Chances Casino Café 436 Cowichan Way
SUMMARY:Cowichan Valley Peer Lunch
DESCRIPTION:Vancouver Island peers are invited to join SCI BC for a peer lu
 nch at Chances Casino Cafe in Duncan. Ketchup with friends\,  enjoy a juicy
  meal and relish in good times! Feel free to bring your partner or a friend
  along. Please RSVP to Scott at sheron@sci-bc.ca.\nhttps://sci-bc.ca/event-
 dir/cowichan-valley-lunch/
URL:https://sci-bc.ca/event-dir/cowichan-valley-lunch/
END:VEVENT
END:VCALENDAR