BEGIN:VCALENDAR
VERSION:2.0
PRODID:-//eventon.com NONSGML v1.0//EN
CALSCALE:GREGORIAN
METHOD:PUBLISH
BEGIN:VEVENT
UID:69ea4014a2abb
DTSTAMP:20260423T155148Z
DTSTART:20240811T180000Z
DTEND:20240811T200000Z
LOCATION:Jumpstart Multi Sport Court (Carrie Jane Gray Park) 2005 Massey Drive
SUMMARY:Prince George Wheelchair Tennis Have-A-Go
DESCRIPTION:Serve up fun at the Wheelchair Tennis Have-A-Go! Join SCI BC\, 
  Northern Adapted Sports Association and BC Wheelchair Sports for a smashin
 g good time. Try out tennis and make new friends at the Jumpstart Multispor
 t Park. All ages and abilities welcome. No experience necessary. All equipm
 ent will be provided. Have[..]\nhttps://sci-bc.ca/event-dir/prince-george-w
 heelchair-tennis-picnic/
URL:https://sci-bc.ca/event-dir/prince-george-wheelchair-tennis-picnic/
END:VEVENT
END:VCALENDAR