BEGIN:VCALENDAR
VERSION:2.0
PRODID:-//eventon.com NONSGML v1.0//EN
CALSCALE:GREGORIAN
METHOD:PUBLISH
BEGIN:VEVENT
UID:69e9992418e07
DTSTAMP:20260423T035932Z
DTSTART:20240816T200000Z
DTEND:20240816T213000Z
LOCATION:
SUMMARY:Peer Discussion: Should Catheters Be Covered and Why? (Session 2)
DESCRIPTION:Do you think catheters should be covered in BC? Be part of the 
 discussion! Join peer Andy Caswell for an interactive discussion on if and 
 why catheters should be covered in BC. Share your experience and discuss ch
 allenges and opportunities for catheter coverage. Please choose one session
  to attend and[..]\nhttps://sci-bc.ca/event-dir/peer-discussion-catheter-co
 verage-2/
URL:https://sci-bc.ca/event-dir/peer-discussion-catheter-coverage-2/
END:VEVENT
END:VCALENDAR