BEGIN:VCALENDAR
VERSION:2.0
PRODID:-//eventon.com NONSGML v1.0//EN
CALSCALE:GREGORIAN
METHOD:PUBLISH
BEGIN:VEVENT
UID:69ea59a2cdb44
DTSTAMP:20260423T174050Z
DTSTART:20250622T210000Z
DTEND:20250622T220000Z
LOCATION:Lheidli T&#039;enneh Memorial Park 110 17th Ave
SUMMARY:Prince George Charity Challenge Roll n' Stroll
DESCRIPTION:*Please note: This event has been cancelled. Join us to roll\, 
  stroll and support Spinal Cord Injury BC in Prince George! The Charity Cha
 llenge is Spinal Cord Injury BC (SCI BC)&#8217;s largest fundraising eventâ
 €” this will be our 13th year of racing and we are so excited to be back![.
 .]\nhttps://sci-bc.ca/event-dir/prince-george-charity-challenge-2025/
URL:https://sci-bc.ca/event-dir/prince-george-charity-challenge-2025/
END:VEVENT
END:VCALENDAR