BEGIN:VCALENDAR
VERSION:2.0
PRODID:-//eventon.com NONSGML v1.0//EN
CALSCALE:GREGORIAN
METHOD:PUBLISH
BEGIN:VEVENT
UID:69e59a6c94cc6
DTSTAMP:20260420T031556Z
DTSTART:20250918T200000Z
DTEND:20250919T065900Z
LOCATION:E.B&#039;s Ice Cream Shop 5514 Wharf Ave\,  Sechelt
SUMMARY:Partner Event: Nature Bathing in Sechelt with SFAL
DESCRIPTION:Please join us on Thursday September 18 for this exciting natur
 e bathing event! Meet at 1 pm at E. B’s Ice Cream Shop (5514 Wharf Ave\, 
  Sechelt) starting the day with your favourite ice cream treat. We will the
 n move to Porpoise Bay Provincial Park (6451 Sechelt Inlet Rd\,  Sechelt)[.
 .]\nhttps://sci-bc.ca/event-dir/nature-bathing/
URL:https://sci-bc.ca/event-dir/nature-bathing/
END:VEVENT
END:VCALENDAR